BEGIN:VCALENDAR
VERSION:2.0
PRODID:-//INVENTRONICS GLOBAL (IT) - ECPv6.15.20//NONSGML v1.0//EN
CALSCALE:GREGORIAN
METHOD:PUBLISH
X-ORIGINAL-URL:https://www.inventronicsglobal.com
X-WR-CALDESC:Eventi per INVENTRONICS GLOBAL (IT)
REFRESH-INTERVAL;VALUE=DURATION:PT1H
X-Robots-Tag:noindex
X-PUBLISHED-TTL:PT1H
BEGIN:VTIMEZONE
TZID:Europe/Paris
BEGIN:DAYLIGHT
TZOFFSETFROM:+0100
TZOFFSETTO:+0200
TZNAME:CEST
DTSTART:20240331T010000
END:DAYLIGHT
BEGIN:STANDARD
TZOFFSETFROM:+0200
TZOFFSETTO:+0100
TZNAME:CET
DTSTART:20241027T010000
END:STANDARD
BEGIN:DAYLIGHT
TZOFFSETFROM:+0100
TZOFFSETTO:+0200
TZNAME:CEST
DTSTART:20250330T010000
END:DAYLIGHT
BEGIN:STANDARD
TZOFFSETFROM:+0200
TZOFFSETTO:+0100
TZNAME:CET
DTSTART:20251026T010000
END:STANDARD
BEGIN:DAYLIGHT
TZOFFSETFROM:+0100
TZOFFSETTO:+0200
TZNAME:CEST
DTSTART:20260329T010000
END:DAYLIGHT
BEGIN:STANDARD
TZOFFSETFROM:+0200
TZOFFSETTO:+0100
TZNAME:CET
DTSTART:20261025T010000
END:STANDARD
END:VTIMEZONE
BEGIN:VEVENT
DTSTART;VALUE=DATE:20251119
DTEND;VALUE=DATE:20251122
DTSTAMP:20260421T161857
CREATED:20251020T100442Z
LAST-MODIFIED:20251020T100657Z
UID:21589-1763510400-1763769599@www.inventronicsglobal.com
SUMMARY:Smart Building Expo 2025
DESCRIPTION:Smart Building Expo 2025  \nL’evento dedicato all’innovazione negli edifici e nelle tecnologie smart   \nInventronics allo Smart Building Expo 2025: Core of intelligent luminaires – enabling intelligent buildings.  \nNon perdere l’opportunità di incontrare i nostri esperti dal 19 al 21 novembre a Milano\, presso lo stand G45 – PAD 6\, e scopri come Inventronics sta ridefinendo il controllo dell’illuminazione intelligente per edifici più smart e sostenibili.  \nIlluminazione intelligente per un mondo connesso  \nLa trasformazione digitale\, l’efficienza energetica e il design centrato sulle persone stanno rivoluzionando il settore edilizio.\nLo Smart Building Expo è il luogo dove questi trend si incontrano\, riunendo i professionisti che stanno plasmando gli spazi del futuro.\nInventronics contribuisce a questo dialogo con idee e soluzioni che uniscono tecnologia\, comfort e sostenibilità grazie a sistemi avanzati di controllo dell’illuminazione.  \nIlluminazione smart per edifici più intelligenti  \nI nostri driver LED \, moduli e sistemi di controllo dimostrano che l’illuminazione può fare molto più che illuminare: può ottimizzare la gestione energetica\, aumentare la flessibilità e migliorare l’esperienza degli utenti.\nAl nostro stand\, i visitatori potranno scoprire i prodotti da vicino e assistere a dimostrazioni live dei nostri innovativi sistemi di controllo dell’illuminazione in azione.  \nControllo cablato con DALI: precisione e affidabilità  \nScopri DALI Pro 2 IoT\, il nostro sistema progettato per offrire controllo preciso ed efficiente negli ambienti professionali. Con ampia compatibilità\, configurazione intuitiva e prestazioni robuste\, le soluzioni DALI Pro 2 IoT rendono semplice l’integrazione e l’utilizzo in qualsiasi applicazione.  \nScopri HubSense: il wireless reso semplice  \nSfrutta tutti i vantaggi del nostro sistema di controllo wireless HubSense: facile da installare\, scalabile e sicuro\, con dimostrazioni delle funzionalità di gestione remota e accesso in tempo reale agli impianti.\nHubSense consente configurazioni flessibili e gestione da remoto\, diventando la soluzione ideale per progetti di ristrutturazione e automazione moderna degli edifici.  \nParliamo del futuro della luce  \nTi invitiamo a incontrarci allo Smart Building Expo 2025\, dal 19 al 21 novembre a Milano.\nVieni a scoprire come Inventronics può supportare i tuoi progetti di illuminazione intelligente\, combinando innovazione\, efficienza e affidabilità per dare forma al futuro degli edifici smart.  \nRimani connesso  \nIscriviti alla nostra newsletter per ricevere aggiornamenti\, approfondimenti e novità sulle nostre soluzioni di illuminazione intelligente.  \nContatta i nostri Business Development Managers  \nPer domande o supporto ai tuoi progetti\, scrivi a   \nsupport@inventronicsglobal.com   \no contatta direttamente Michele Gardenal a m.gardenal@inventronicsglobal.com.  \n  \nScopri di più sulle nostre soluzioni  \n\nInventronics HubSense – Flexible\, intuitive to commission and scalable \n\n\nFuture-proof lighting with wireless LED drivers \n\n\nLight is IoT ready – DALI PRO 2 IoT \n\n  \n 
URL:https://www.inventronicsglobal.com/it/event/smart-building-expo-2025
CATEGORIES:fiera dell'illuminazione
ATTACH;FMTTYPE=image/png:https://eu.inventronicsglobal.com//wp-content/uploads/2025/10/Smart-Building_website-banner_1800x600-01-scaled.png
END:VEVENT
END:VCALENDAR